Workbook

Sheet 05.06.24
A1: Împrumut 1 din 05.06.2024 — calcul lunar 2024
A3: Entitatea | B3: Beneficiu SRL
A4: Suma împrumutului | B4: 288675
A5: Data acordării | B5: 45448
A6: Rata nominală medie ponderate ale dobânzilor și volumele creditelor noi acordate | B6: 0.0907
A7: Dobânda anuală | B7: 0.1
A8: Zile în anul 2024 | B8: 366
A11: Luna | B11: De la | C11: Până la | D11: Sold la început | E11: Data rambursării | F11: Rambursare (lei) | G11: Zile până la ramb. | H11: Zile după ramb. | I11: Sold final | J11: Formula dobânzii | K11: Dobândă (lei) | L11: Impozit pe venit
A12: C | B12: 2 | C12: 3 | D12: 4 | E12: 5 | F12: 6 | G12: 7 | H12: 8 | I12: 9 | J12: 10 | K12: 11 | L12: 12
A13: June | B13: 05.06.2024 | C13: 30.06.2024 | D13: 288675 | G13: 26 | H13: 0 | I13: =D13-F13 -> 288675 | J13: =D13*B7/B8*G13 -> 2050.6967 | K13: =ROUND($B$4*$B$7*G13/$B$8,2) -> 2050.7 | L13: =K13*12% -> 246.084
A14: July | B14: 01.07.2024 | C14: 31.07.2024 | D14: 288675 | G14: 31 | H14: 0 | I14: =D14-F14 -> 288675 | J14: =D14*B7/B8*G14 -> 2445.0615 | K14: =ROUND($B$4*$B$7*G14/$B$8,2) -> 2445.06 | L14: =K14*12% -> 293.4072
A15: August | B15: 01.08.2024 | C15: 31.08.2024 | D15: 288675 | G15: 31 | H15: 0 | I15: =D15-F15 -> 288675 | J15: =D15*B7/B8*G15 -> 2445.0615 | K15: =ROUND($B$4*$B$7*G15/$B$8,2) -> 2445.06 | L15: =K15*12% -> 293.4072
A16: September | B16: 01.09.2024 | C16: 30.09.2024 | D16: 288675 | G16: 30 | H16: 0 | I16: =D16-F16 -> 288675 | J16: =D16*B7/B8*G16 -> 2366.1885 | K16: =ROUND($B$4*$B$7*G16/$B$8,2) -> 2366.19 | L16: =K16*12% -> 283.9428
A17: October | B17: 01.10.2024 | C17: 31.10.2024 | D17: 288675 | G17: 31 | H17: 0 | I17: =D17-F17 -> 288675 | J17: =D17*B7/B8*G17 -> 2445.0615 | K17: =ROUND($B$4*$B$7*G17/$B$8,2) -> 2445.06 | L17: =K17*12% -> 293.4072
A18: November | B18: 01.11.2024 | C18: 30.11.2024 | D18: 288675 | G18: 30 | H18: 0 | I18: =D18-F18 -> 288675 | J18: =(D18*B7/B8*G18)+(I18*B7/B8*H18) -> 2366.1885 | K18: =ROUND($B$4*$B$7*G18/$B$8,2) -> 2366.19 | L18: =K18*12% -> 283.9428
A19: December | B19: 01.12.2024 | C19: 31.12.2024 | D19: 288675 | G19: 31 | H19: 0 | I19: =D19-F19 -> 288675 | J19: =D19*B7/B8*G19 -> 2445.0615 | K19: =ROUND($B$4*$B$7*G19/$B$8,2) -> 2445.06 | L19: =K19*12% -> 293.4072
A20: x | B20: x | C20: x | D20: x | E20: x | F20: =SUM(F13:F19) -> 0 | G20: x | H20: x | I20: x | J20: TOTAL 2024 | K20: =SUM(K13:K19) -> 16563.32 | L20: =SUM(L13:L19) -> 1987.5984
A23: La bază:
A24: 1. HG 697/2014, pct. 8, subpct. 4), art. lit. d) din CF, | G24: (de bifat)
A26: 2. art. 21 alin. (6) din CF) | F26: W | G26: (de bifat)

Sheet 31.12.24
A1: Împrumut 6 din 31.12.2024 — calcul lunar 2024
A3: Entitatea | B3: Beneficiu SRL
A4: Suma împrumutului | B4: 900000
A5: Data acordării | B5: 45657
A6: Rata nominală medie ponderate ale dobânzilor și volumele creditelor noi acordate | B6: 0.0907
A7: Dobânda anuală | B7: 0.1
A8: Zile în anul 2024 | B8: 366
A11: Luna | B11: De la | C11: Până la | D11: Sold la început | E11: Data rambursării | F11: Rambursare (lei) | G11: Zile până la ramb. | H11: Zile după ramb. | I11: Sold final | J11: Formula dobânzii | K11: Dobândă (lei) | L11: Impozit pe venit
A12: 1 | B12: 2 | C12: 3 | D12: 4 | E12: 5 | F12: 6 | G12: 7 | H12: 8 | I12: 9 | J12: 10 | K12: 11 | L12: 12
A13: December | B13: 45657 | C13: 31.12.2024 | D13: 900000 | G13: 1 | H13: 0 | I13: =D13-F13 -> 900000 | J13: =D13*B7/B8*G13 -> 245.90164 | K13: =ROUND($B$4*$B$7*G13/$B$8,2) -> 245.9 | L13: =K13*12% -> 29.508
A14: x | B14: x | C14: x | D14: x | E14: x | F14: =SUM(F13:F13) -> 0 | G14: x | H14: x | I14: x | J14: TOTAL 2024 | K14: =SUM(K13:K13) -> 245.9 | L14: =SUM(L13:L13) -> 29.508
A17: La bază:
A18: 1. HG 697/2014, pct. 8, subpct. 4), art. lit. d) din CF, | G18: (de bifat)
A20: 2. art. 21 alin. (6) din CF) | F20: W | G20: (de bifat)

Sheet Sinteză 2024
A3: Entitatea: | B3: Beneficiu SRL
A4: Perioada | B4: 2024
A5: Rata nominală medie ponderate ale dobânzilor și volumele creditelor noi acordate | B5: 0.0907
A6: Dobânda anuală | B6: 0.1
A9: Împrumut | B9: Suma acordată | C9: Dobânda 2024 | D9: Impozit pe venit
A10: 1 | B10: 2 | C10: 3 | D10: 4
A11: 05.06.2024 | B11: 288675 | C11: ='05.06.24'!K20 -> 16563.32 | D11: ='05.06.24'!L20 -> 1987.5984
A12: 31.12.2024 | B12: 900000 | C12: ='31.12.24'!K14 -> 245.9 | D12: ='31.12.24'!L14 -> 29.508
A13: TOTAL | B13: =SUM(B11:B12) -> 1188675 | C13: =SUM(C11:C12) -> 16809.22 | D13: =SUM(D11:D12) -> 2017.1064
A16: Notă: cifrele colonita 3 si 4 sint rotungite

Sheet 05.06.24 25
A1: Împrumut 1 din 15.01.25 — calcul lunar 2025
A3: Entitatea | B3: Beneficiu SRL
A4: Suma împrumutului | B4: 288675
A5: Data acordării | B5: 45448
A6: Rata nominală medie ponderate ale dobânzilor și volumele creditelor noi acordate | B6: 0.0862
A7: Dobânda anuală | B7: 0.0862
A8: Zile în anul 2024 | B8: 365
A11: Luna | B11: De la | C11: Până la | D11: Sold la început | E11: Data rambursării | F11: Rambursare (lei) | G11: Zile până la ramb. | H11: Zile după ramb. | I11: Sold final | J11: Formula dobânzii | K11: Dobândă (lei) | L11: Impozit pe venit
A12: 1 | B12: 2 | C12: 3 | D12: 4 | E12: 5 | F12: 6 | G12: 7 | H12: 8 | I12: 9 | J12: 10 | K12: 11 | L12: 12
A13: Ianuarie | B13: 45658 | C13: 45688 | D13: 288675 | G13: 31 | H13: 0 | I13: =D13-F13 -> 288675 | J13: =D13*B7/B8*G13 -> 2113.4174 | K13: =J13 -> 2113.4174 | L13: =K13*12% -> 253.61008
A14: Februarie | B14: 45689 | C14: 45716 | D14: 288675 | G14: 28 | H14: 0 | I14: =D14-F14 -> 288675 | J14: =D14*B7/B8*G14 -> 1908.8931 | K14: =J14 -> 1908.8931 | L14: =K14*12% -> 229.06717
A15: Martie | B15: 45717 | C15: 45747 | D15: 288675 | G15: 31 | H15: 0 | I15: =D15-F15 -> 288675 | J15: =D15*B7/B8*G15 -> 2113.4174 | K15: =J15 -> 2113.4174 | L15: =K15*12% -> 253.61008
A16: Aprilie | B16: 45748 | C16: 45777 | D16: 288675 | G16: 30 | H16: 0 | I16: =D16-F16 -> 288675 | J16: =D16*B7/B8*G16 -> 2045.2426 | K16: =J16 -> 2045.2426 | L16: =K16*12% -> 245.42911
A17: Mai | B17: 45778 | C17: 45808 | D17: 288675 | G17: 31 | H17: 0 | I17: =D17-F17 -> 288675 | J17: =D17*B7/B8*G17 -> 2113.4174 | K17: =J17 -> 2113.4174 | L17: =K17*12% -> 253.61008
A18: Iunie | B18: 45809 | C18: 45838 | D18: 288675 | G18: 30 | H18: 0 | I18: =D18-F18 -> 288675 | J18: =D18*B7/B8*G18 -> 2045.2426 | K18: =J18 -> 2045.2426 | L18: =K18*12% -> 245.42911
A19: July | B19: 45839 | C19: 45869 | D19: 288675 | G19: 31 | H19: 0 | I19: =D19-F19 -> 288675 | J19: =D19*B7/B8*G19 -> 2113.4174 | K19: =J19 -> 2113.4174 | L19: =K19*12% -> 253.61008
A20: August | B20: 45870 | C20: 45900 | D20: 288675 | G20: 31 | H20: 0 | I20: =D20-F20 -> 288675 | J20: =D20*B7/B8*G20 -> 2113.4174 | K20: =J20 -> 2113.4174 | L20: =K20*12% -> 253.61008
A21: September | B21: 45901 | C21: 45930 | D21: 288675 | G21: 30 | H21: 0 | I21: =D21-F21 -> 288675 | J21: =D21*B7/B8*G21 -> 2045.2426 | K21: =J21 -> 2045.2426 | L21: =K21*12% -> 245.42911
A22: October | B22: 45931 | C22: 45961 | D22: 288675 | G22: 31 | H22: 0 | I22: =D22-F22 -> 288675 | J22: =D22*B7/B8*G22 -> 2113.4174 | K22: =J22 -> 2113.4174 | L22: =K22*12% -> 253.61008
A23: November | B23: 45962 | C23: 45991 | D23: 288675 | G23: 30 | H23: 0 | I23: =D23-F23 -> 288675 | J23: =D23*B7/B8*G23 -> 2045.2426 | K23: =J23 -> 2045.2426 | L23: =K23*12% -> 245.42911
A24: December | B24: 45992 | C24: 46022 | D24: 288675 | G24: 31 | H24: 0 | I24: =D24-F24 -> 288675 | J24: =D24*B7/B8*G24 -> 2113.4174 | K24: =J24 -> 2113.4174 | L24: =K24*12% -> 253.61008
A25: x | B25: x | C25: x | D25: x | E25: x | F25: =SUM(F13:F24) -> 0 | G25: x | H25: x | I25: x | J25: TOTAL 2025 | K25: =SUM(K13:K24) -> 24883.785 | L25: =SUM(L13:L24) -> 2986.0542
A28: La bază:
A29: 1. HG 697/2014, pct. 8, subpct. 4), art. lit. d) din CF, | G29: (de bifat)
A31: 2. art. 21 alin. (6) din CF) | F31: W | G31: (de bifat)

Sheet 31.12.24 25
A1: Împrumut 6 din 31.12.24 — calcul lunar 2025
A3: Entitatea | B3: Beneficiu SRL
A4: Suma împrumutului | B4: 900000
A5: Data acordării | B5: 45657
A6: Rata nominală medie ponderate ale dobânzilor și volumele creditelor noi acordate | B6: 0.0862
A7: Dobânda anuală | B7: 0.0862
A8: Zile în anul 2024 | B8: 365
A11: Luna | B11: De la | C11: Până la | D11: Sold la început | E11: Data rambursării | F11: Rambursare (lei) | G11: Zile până la ramb. | H11: Zile după ramb. | I11: Sold final | J11: Formula dobânzii | K11: Dobândă (lei) | L11: Impozit pe venit
A12: 1 | B12: 2 | C12: 3 | D12: 4 | E12: 5 | F12: 6 | G12: 7 | H12: 8 | I12: 9 | J12: 10 | K12: 11 | L12: 12
A13: Ianuarie | B13: 45658 | C13: 45688 | D13: 900000 | G13: 31 | H13: 0 | I13: =D13-F13 -> 900000 | J13: =D13*B7/B8*G13 -> 6588.9863 | K13: =J13 -> 6588.9863 | L13: =K13*12% -> 790.67836
A14: Februarie | B14: 45689 | C14: 45716 | D14: 900000 | G14: 28 | H14: 0 | I14: =D14-F14 -> 900000 | J14: =D14*B7/B8*G14 -> 5951.3425 | K14: =J14 -> 5951.3425 | L14: =K14*12% -> 714.1611
A15: Martie | B15: 45717 | C15: 45747 | D15: 900000 | G15: 31 | H15: 0 | I15: =D15-F15 -> 900000 | J15: =D15*B7/B8*G15 -> 6588.9863 | K15: =J15 -> 6588.9863 | L15: =K15*12% -> 790.67836
A16: Aprilie | B16: 45748 | C16: 45777 | D16: 900000 | G16: 30 | H16: 0 | I16: =D16-F16 -> 900000 | J16: =D16*B7/B8*G16 -> 6376.4384 | K16: =J16 -> 6376.4384 | L16: =K16*12% -> 765.1726
A17: Mai | B17: 45778 | C17: 45808 | D17: 900000 | G17: 31 | H17: 0 | I17: =D17-F17 -> 900000 | J17: =D17*B7/B8*G17 -> 6588.9863 | K17: =J17 -> 6588.9863 | L17: =K17*12% -> 790.67836
A18: Iunie | B18: 45809 | C18: 45838 | D18: 900000 | G18: 30 | H18: 0 | I18: =D18-F18 -> 900000 | J18: =D18*B7/B8*G18 -> 6376.4384 | K18: =J18 -> 6376.4384 | L18: =K18*12% -> 765.1726
A19: July | B19: 45839 | C19: 45869 | D19: 900000 | G19: 31 | H19: 0 | I19: =D19-F19 -> 900000 | J19: =D19*B7/B8*G19 -> 6588.9863 | K19: =J19 -> 6588.9863 | L19: =K19*12% -> 790.67836
A20: August | B20: 45870 | C20: 45900 | D20: 900000 | G20: 31 | H20: 0 | I20: =D20-F20 -> 900000 | J20: =D20*B7/B8*G20 -> 6588.9863 | K20: =J20 -> 6588.9863 | L20: =K20*12% -> 790.67836
A21: September | B21: 45901 | C21: 45930 | D21: 900000 | G21: 30 | H21: 0 | I21: =D21-F21 -> 900000 | J21: =D21*B7/B8*G21 -> 6376.4384 | K21: =J21 -> 6376.4384 | L21: =K21*12% -> 765.1726
A22: October | B22: 45931 | C22: 45961 | D22: 900000 | G22: 31 | H22: 0 | I22: =D22-F22 -> 900000 | J22: =D22*B7/B8*G22 -> 6588.9863 | K22: =J22 -> 6588.9863 | L22: =K22*12% -> 790.67836
A23: November | B23: 45962 | C23: 45991 | D23: 900000 | G23: 30 | H23: 0 | I23: =D23-F23 -> 900000 | J23: =D23*B7/B8*G23 -> 6376.4384 | K23: =J23 -> 6376.4384 | L23: =K23*12% -> 765.1726
A24: December | B24: 45992 | C24: 46022 | D24: 900000 | G24: 31 | H24: 0 | I24: =D24-F24 -> 900000 | J24: =D24*B7/B8*G24 -> 6588.9863 | K24: =J24 -> 6588.9863 | L24: =K24*12% -> 790.67836
A25: x | B25: x | C25: x | D25: x | E25: x | F25: =SUM(F13:F24) -> 0 | G25: x | H25: x | I25: x | J25: TOTAL 2025 | K25: =SUM(K13:K24) -> 77580 | L25: =SUM(L13:L24) -> 9309.6
A28: La bază:
A29: 1. HG 697/2014, pct. 8, subpct. 4), art. lit. d) din CF, | G29: (de bifat)
A31: 2. art. 21 alin. (6) din CF) | F31: W | G31: (de bifat)

Sheet Sinteza 2025
A3: Entitatea: | B3: Beneficiu SRL
A4: Perioada | B4: 2025
A5: Rata nominală medie ponderate ale dobânzilor și volumele creditelor noi acordate | B5: 0.0703
A6: Dobânda anuală | B6: 0.1
A9: Împrumut | B9: Suma acordată | C9: Dobânda 2025 | D9: Impozit pe venit
A10: 1 | B10: 2 | C10: 3 | D10: 4
A11: 45448 | B11: 288675 | C11: ='05.06.24 25'!K25 -> 24883.785 | D11: ='05.06.24 25'!L25 -> 2986.0542
A12: 45657 | B12: 900000 | C12: ='31.12.24 25'!K25 -> 77580 | D12: ='31.12.24 25'!L25 -> 9309.6
A13: TOTAL | B13: =SUM(B11:B12) -> 1188675 | C13: =SUM(C11:C12) -> 102463.79 | D13: =SUM(D11:D12) -> 12295.654
A16: Notă: cifrele colonita 3 si 4 sint rotungite

Sheet 05.06.24 26
A1: Împrumut 1 din 15.01.25 — calcul lunar 2025
A3: Entitatea | B3: Beneficiu SRL
A4: Suma împrumutului | B4: 288675
A5: Data acordării | B5: 45448
A6: Rata nominală medie ponderate ale dobânzilor și volumele creditelor noi acordate | B6: 0.0862
A7: Dobânda anuală | B7: 0.1
A8: Zile în anul 2024 | B8: 365
A11: Luna | B11: De la | C11: Până la | D11: Sold la început | E11: Data rambursării | F11: Rambursare (lei) | G11: Zile până la ramb. | H11: Zile după ramb. | I11: Sold final | J11: Formula dobânzii | K11: Dobândă (lei) | L11: Impozit pe venit
A12: 1 | B12: 6 | C12: 3 | D12: 4 | E12: 5 | F12: 6 | G12: 7 | H12: 8 | I12: 9 | J12: 10 | K12: 11 | L12: 12
A13: Ianuarie | B13: 46023 | C13: 46053 | D13: 288675 | G13: 31 | H13: 0 | I13: =D13-F13 -> 288675 | J13: =D13*B7/B8*G13 -> 2451.7603 | K13: =J13 -> 2451.7603 | L13: =K13*12% -> 294.21123
A14: Februarie | B14: 46054 | C14: 46081 | D14: 288675 | G14: 28 | H14: 0 | I14: =D14-F14 -> 288675 | J14: =D14*B7/B8*G14 -> 2214.4932 | K14: =J14 -> 2214.4932 | L14: =K14*12% -> 265.73918
A15: Martie | B15: 46082 | C15: 46112 | D15: 288675 | G15: 31 | H15: 0 | I15: =D15-F15 -> 288675 | J15: =D15*B7/B8*G15 -> 2451.7603 | K15: =J15 -> 2451.7603 | L15: =K15*12% -> 294.21123
A16: Aprilie | B16: 46113 | C16: 46142 | D16: 288675 | G16: 30 | H16: 0 | I16: =D16-F16 -> 288675 | J16: =D16*B7/B8*G16 -> 2372.6712 | K16: =J16 -> 2372.6712 | L16: =K16*12% -> 284.72055
A17: Mai | B17: 46143 | C17: 46173 | D17: 288675 | G17: 31 | H17: 0 | I17: =D17-F17 -> 288675 | J17: =D17*B7/B8*G17 -> 2451.7603 | K17: =J17 -> 2451.7603 | L17: =K17*12% -> 294.21123
A18: Iunie | B18: 46174 | C18: 46203 | D18: 288675 | G18: 30 | H18: 0 | I18: =D18-F18 -> 288675 | J18: =D18*B7/B8*G18 -> 2372.6712 | K18: =J18 -> 2372.6712 | L18: =K18*12% -> 284.72055
A19: July | B19: 46204 | C19: 46234 | D19: 288675 | G19: 31 | H19: 0 | I19: =D19-F19 -> 288675 | J19: =D19*B7/B8*G19 -> 2451.7603 | K19: =J19 -> 2451.7603 | L19: =K19*12% -> 294.21123
A20: August | B20: 46235 | C20: 46265 | D20: 288675 | G20: 31 | H20: 0 | I20: =D20-F20 -> 288675 | J20: =D20*B7/B8*G20 -> 2451.7603 | K20: =J20 -> 2451.7603 | L20: =K20*12% -> 294.21123
A21: September | B21: 46266 | C21: 46295 | D21: 288675 | G21: 30 | H21: 0 | I21: =D21-F21 -> 288675 | J21: =D21*B7/B8*G21 -> 2372.6712 | K21: =J21 -> 2372.6712 | L21: =K21*12% -> 284.72055
A22: October | B22: 46296 | C22: 46326 | D22: 288675 | G22: 31 | H22: 0 | I22: =D22-F22 -> 288675 | J22: =D22*B7/B8*G22 -> 2451.7603 | K22: =J22 -> 2451.7603 | L22: =K22*12% -> 294.21123
A23: November | B23: 46327 | C23: 46356 | D23: 288675 | G23: 30 | H23: 0 | I23: =D23-F23 -> 288675 | J23: =D23*B7/B8*G23 -> 2372.6712 | K23: =J23 -> 2372.6712 | L23: =K23*12% -> 284.72055
A24: December | B24: 46357 | C24: 46387 | D24: 288675 | G24: 31 | H24: 0 | I24: =D24-F24 -> 288675 | J24: =D24*B7/B8*G24 -> 2451.7603 | K24: =J24 -> 2451.7603 | L24: =K24*12% -> 294.21123
A25: x | B25: x | C25: x | D25: x | E25: x | F25: =SUM(F13:F24) -> 0 | G25: x | H25: x | I25: x | J25: TOTAL 2025 | K25: =SUM(K13:K24) -> 28867.5 | L25: =SUM(L13:L24) -> 3464.1
A28: La bază:
A29: 1. HG 697/2014, pct. 8, subpct. 4), art. lit. d) din CF, | G29: (de bifat)
A31: 2. art. 21 alin. (6) din CF) | F31: W | G31: (de bifat)

Sheet 31.12.24 26
A1: Împrumut 6 din 31.12.24 — calcul lunar 2025
A3: Entitatea | B3: Beneficiu SRL
A4: Suma împrumutului | B4: 900000
A5: Data acordării | B5: 45657
A6: Rata nominală medie ponderate ale dobânzilor și volumele creditelor noi acordate | B6: 0.0862
A7: Dobânda anuală | B7: 0.1
A8: Zile în anul 2024 | B8: 365
A11: Luna | B11: De la | C11: Până la | D11: Sold la început | E11: Data rambursării | F11: Rambursare (lei) | G11: Zile până la ramb. | H11: Zile după ramb. | I11: Sold final | J11: Formula dobânzii | K11: Dobândă (lei) | L11: Impozit pe venit
A12: 1 | B12: 2 | C12: 3 | D12: 4 | E12: 5 | F12: 6 | G12: 7 | H12: 8 | I12: 9 | J12: 10 | K12: 11 | L12: 12
A13: Ianuarie | B13: 46023 | C13: 46053 | D13: 900000 | G13: 31 | H13: 0 | I13: =D13-F13 -> 900000 | J13: =D13*B7/B8*G13 -> 7643.8356 | K13: =J13 -> 7643.8356 | L13: =K13*12% -> 917.26027
A14: Februarie | B14: 46054 | C14: 46081 | D14: 900000 | G14: 28 | H14: 0 | I14: =D14-F14 -> 900000 | J14: =D14*B7/B8*G14 -> 6904.1096 | K14: =J14 -> 6904.1096 | L14: =K14*12% -> 828.49315
A15: Martie | B15: 46082 | C15: 46112 | D15: 900000 | G15: 31 | H15: 0 | I15: =D15-F15 -> 900000 | J15: =D15*B7/B8*G15 -> 7643.8356 | K15: =J15 -> 7643.8356 | L15: =K15*12% -> 917.26027
A16: Aprilie | B16: 46113 | C16: 46142 | D16: 900000 | G16: 30 | H16: 0 | I16: =D16-F16 -> 900000 | J16: =D16*B7/B8*G16 -> 7397.2603 | K16: =J16 -> 7397.2603 | L16: =K16*12% -> 887.67123
A17: Mai | B17: 46143 | C17: 46173 | D17: 900000 | G17: 31 | H17: 0 | I17: =D17-F17 -> 900000 | J17: =D17*B7/B8*G17 -> 7643.8356 | K17: =J17 -> 7643.8356 | L17: =K17*12% -> 917.26027
A18: Iunie | B18: 46174 | C18: 46203 | D18: 900000 | G18: 30 | H18: 0 | I18: =D18-F18 -> 900000 | J18: =D18*B7/B8*G18 -> 7397.2603 | K18: =J18 -> 7397.2603 | L18: =K18*12% -> 887.67123
A19: July | B19: 46204 | C19: 46234 | D19: 900000 | G19: 31 | H19: 0 | I19: =D19-F19 -> 900000 | J19: =D19*B7/B8*G19 -> 7643.8356 | K19: =J19 -> 7643.8356 | L19: =K19*12% -> 917.26027
A20: August | B20: 46235 | C20: 46265 | D20: 900000 | G20: 31 | H20: 0 | I20: =D20-F20 -> 900000 | J20: =D20*B7/B8*G20 -> 7643.8356 | K20: =J20 -> 7643.8356 | L20: =K20*12% -> 917.26027
A21: September | B21: 46266 | C21: 46295 | D21: 900000 | G21: 30 | H21: 0 | I21: =D21-F21 -> 900000 | J21: =D21*B7/B8*G21 -> 7397.2603 | K21: =J21 -> 7397.2603 | L21: =K21*12% -> 887.67123
A22: October | B22: 46296 | C22: 46326 | D22: 900000 | G22: 31 | H22: 0 | I22: =D22-F22 -> 900000 | J22: =D22*B7/B8*G22 -> 7643.8356 | K22: =J22 -> 7643.8356 | L22: =K22*12% -> 917.26027
A23: November | B23: 46327 | C23: 46356 | D23: 900000 | G23: 30 | H23: 0 | I23: =D23-F23 -> 900000 | J23: =D23*B7/B8*G23 -> 7397.2603 | K23: =J23 -> 7397.2603 | L23: =K23*12% -> 887.67123
A24: December | B24: 46357 | C24: 46387 | D24: 900000 | G24: 31 | H24: 0 | I24: =D24-F24 -> 900000 | J24: =D24*B7/B8*G24 -> 7643.8356 | K24: =J24 -> 7643.8356 | L24: =K24*12% -> 917.26027
A25: x | B25: x | C25: x | D25: x | E25: x | F25: =SUM(F13:F24) -> 0 | G25: x | H25: x | I25: x | J25: TOTAL 2025 | K25: =SUM(K13:K24) -> 90000 | L25: =SUM(L13:L24) -> 10800
A28: La bază:
A29: 1. HG 697/2014, pct. 8, subpct. 4), art. lit. d) din CF, | G29: (de bifat)
A31: 2. art. 21 alin. (6) din CF) | F31: W | G31: (de bifat)

Sheet Sinteza 2026
A3: Entitatea: | B3: Beneficiu SRL
A4: Perioada | B4: 2026
A5: Rata nominală medie ponderate ale dobânzilor și volumele creditelor noi acordate | B5: 0.0862
A6: Dobânda anuală | B6: 0.1
A9: Împrumut | B9: Suma acordată | C9: Dobânda 2026 | D9: Impozit pe venit
A10: 1 | B10: 2 | C10: 3 | D10: 4
A11: 45448 | B11: 288675 | C11: ='05.06.24 26'!K25 -> 28867.5 | D11: ='05.06.24 26'!L25 -> 3464.1
A12: 45657 | B12: 900000 | C12: ='31.12.24 26'!K25 -> 90000 | D12: ='31.12.24 26'!L25 -> 10800
A13: TOTAL | B13: =SUM(B11:B12) -> 1188675 | C13: =SUM(C11:C12) -> 118867.5 | D13: =SUM(D11:D12) -> 14264.1
A16: Notă: cifrele colonita 3 si 4 sint rotungite
